Workbook

Sheet Primitiva - Bonoloto
B1: GENERADOR COMBINACION PARA LOTERÍA PRIMITIVA O BONOLOTO ESPAÑA
B3: =VLOOKUP(1,'No tocar'!B1:C6,2,FALSE) -> 23 | C3: =VLOOKUP(2,'No tocar'!B1:C6,2,FALSE) -> 7 | D3: =VLOOKUP(3,'No tocar'!B1:C6,2,FALSE) -> 4 | E3: =VLOOKUP(4,'No tocar'!B1:C6,2,FALSE) -> 16 | F3: =VLOOKUP(5,'No tocar'!B1:C6,2,FALSE) -> 17 | G3: =VLOOKUP(6,'No tocar'!B1:C6,2,FALSE) -> 10
B6: PRESIONAR F9 PARA GENERAR LA SIGUIENTE COMBINACIÓN

Sheet No tocar
A1: =RAND() -> 0.60854625 | B1: 1 | C1: =RANK(A1,$A$1:$A$49) -> 23
A2: =RAND() -> 0.85720066 | B2: 2 | C2: =RANK(A2,$A$1:$A$49) -> 7
A3: =RAND() -> 0.93654941 | B3: 3 | C3: =RANK(A3,$A$1:$A$49) -> 4
A4: =RAND() -> 0.75139408 | B4: 4 | C4: =RANK(A4,$A$1:$A$49) -> 16
A5: =RAND() -> 0.74668969 | B5: 5 | C5: =RANK(A5,$A$1:$A$49) -> 17
A6: =RAND() -> 0.83867164 | B6: 6 | C6: =RANK(A6,$A$1:$A$49) -> 10
A7: =RAND() -> 0.42779088 | C7: =RANK(A7,$A$1:$A$49) -> 28
A8: =RAND() -> 0.52756926 | C8: =RANK(A8,$A$1:$A$49) -> 24
A9: =RAND() -> 0.9294375 | C9: =RANK(A9,$A$1:$A$49) -> 5
A10: =RAND() -> 0.40300311 | C10: =RANK(A10,$A$1:$A$49) -> 29
A11: =RAND() -> 0.62671384 | C11: =RANK(A11,$A$1:$A$49) -> 22
A12: =RAND() -> 0.26601116 | C12: =RANK(A12,$A$1:$A$49) -> 40
A13: =RAND() -> 0.19587057 | C13: =RANK(A13,$A$1:$A$49) -> 45
A14: =RAND() -> 0.52692141 | C14: =RANK(A14,$A$1:$A$49) -> 25
A15: =RAND() -> 0.89161471 | C15: =RANK(A15,$A$1:$A$49) -> 6
A16: =RAND() -> 0.70212189 | C16: =RANK(A16,$A$1:$A$49) -> 19
A17: =RAND() -> 0.76504104 | C17: =RANK(A17,$A$1:$A$49) -> 14
A18: =RAND() -> 0.78595972 | C18: =RANK(A18,$A$1:$A$49) -> 13
... A49: =RAND() -> 0.4016415 | C49: =RANK(A49,$A$1:$A$49) -> 30
