Workbook

Sheet Mega Millions
B1: COMBINATION GENERATOR FOR MEGA MILLIONS LOTTERY USA
B3: =VLOOKUP(1,'Do not touch'!B1:C6,2,FALSE) -> 27 | C3: =VLOOKUP(2,'Do not touch'!B1:C6,2,FALSE) -> 41 | D3: =VLOOKUP(3,'Do not touch'!B1:C6,2,FALSE) -> 52 | E3: =VLOOKUP(4,'Do not touch'!B1:C6,2,FALSE) -> 67 | F3: =VLOOKUP(5,'Do not touch'!B1:C6,2,FALSE) -> 47 | H3: =VLOOKUP(1,'Do not touch'!F1:G1,2,FALSE) -> 19
B6: PRESS F9 TO GENERATE THE NEXT COMBINATION

Sheet Do not touch
A1: =RAND() -> 0.62707705 | B1: 1 | C1: =RANK(A1,$A$1:$A$70) -> 27 | E1: =RAND() -> 0.44336899 | F1: 1 | G1: =RANK(E1,$E$1:$E$25) -> 19
A2: =RAND() -> 0.40160515 | B2: 2 | C2: =RANK(A2,$A$1:$A$70) -> 41 | E2: =RAND() -> 0.39816953 | G2: =RANK(E2,$E$1:$E$25) -> 20
A3: =RAND() -> 0.22520625 | B3: 3 | C3: =RANK(A3,$A$1:$A$70) -> 52 | E3: =RAND() -> 0.53785076 | G3: =RANK(E3,$E$1:$E$25) -> 15
A4: =RAND() -> 0.053179219 | B4: 4 | C4: =RANK(A4,$A$1:$A$70) -> 67 | E4: =RAND() -> 0.45679137 | G4: =RANK(E4,$E$1:$E$25) -> 18
A5: =RAND() -> 0.31995347 | B5: 5 | C5: =RANK(A5,$A$1:$A$70) -> 47 | E5: =RAND() -> 0.4889455 | G5: =RANK(E5,$E$1:$E$25) -> 16
A6: =RAND() -> 0.89979657 | C6: =RANK(A6,$A$1:$A$70) -> 5 | E6: =RAND() -> 0.37217605 | G6: =RANK(E6,$E$1:$E$25) -> 21
A7: =RAND() -> 0.032334538 | C7: =RANK(A7,$A$1:$A$70) -> 68 | E7: =RAND() -> 0.88883386 | G7: =RANK(E7,$E$1:$E$25) -> 5
A8: =RAND() -> 0.30600876 | C8: =RANK(A8,$A$1:$A$70) -> 49 | E8: =RAND() -> 0.9412359 | G8: =RANK(E8,$E$1:$E$25) -> 2
A9: =RAND() -> 0.85333386 | C9: =RANK(A9,$A$1:$A$70) -> 11 | E9: =RAND() -> 0.9206752 | G9: =RANK(E9,$E$1:$E$25) -> 3
A10: =RAND() -> 0.14775334 | C10: =RANK(A10,$A$1:$A$70) -> 61 | E10: =RAND() -> 0.2571659 | G10: =RANK(E10,$E$1:$E$25) -> 22
A11: =RAND() -> 0.44660758 | C11: =RANK(A11,$A$1:$A$70) -> 36 | E11: =RAND() -> 0.61029454 | G11: =RANK(E11,$E$1:$E$25) -> 13
A12: =RAND() -> 0.84549748 | C12: =RANK(A12,$A$1:$A$70) -> 12 | E12: =RAND() -> 0.64062241 | G12: =RANK(E12,$E$1:$E$25) -> 10
A13: =RAND() -> 0.0057706435 | C13: =RANK(A13,$A$1:$A$70) -> 70 | E13: =RAND() -> 0.78796012 | G13: =RANK(E13,$E$1:$E$25) -> 9
A14: =RAND() -> 0.42316061 | C14: =RANK(A14,$A$1:$A$70) -> 38 | E14: =RAND() -> 0.063918846 | G14: =RANK(E14,$E$1:$E$25) -> 25
A15: =RAND() -> 0.31687092 | C15: =RANK(A15,$A$1:$A$70) -> 48 | E15: =RAND() -> 0.61958876 | G15: =RANK(E15,$E$1:$E$25) -> 12
A16: =RAND() -> 0.21095203 | C16: =RANK(A16,$A$1:$A$70) -> 54 | E16: =RAND() -> 0.24227309 | G16: =RANK(E16,$E$1:$E$25) -> 23
A17: =RAND() -> 0.34695125 | C17: =RANK(A17,$A$1:$A$70) -> 45 | E17: =RAND() -> 0.86350948 | G17: =RANK(E17,$E$1:$E$25) -> 6
... A25: =RAND() -> 0.13055743 | C25: =RANK(A25,$A$1:$A$70) -> 64 | E25: =RAND() -> 0.47201511 | G25: =RANK(E25,$E$1:$E$25) -> 17
A26: =RAND() -> 0.47149349 | C26: =RANK(A26,$A$1:$A$70) -> 32
A27: =RAND() -> 0.13917124 | C27: =RANK(A27,$A$1:$A$70) -> 62
A28: =RAND() -> 0.36203995 | C28: =RANK(A28,$A$1:$A$70) -> 43
A29: =RAND() -> 0.74919703 | C29: =RANK(A29,$A$1:$A$70) -> 16
A30: =RAND() -> 0.33126367 | C30: =RANK(A30,$A$1:$A$70) -> 46
A31: =RAND() -> 0.97976836 | C31: =RANK(A31,$A$1:$A$70) -> 2
A32: =RAND() -> 0.13225428 | C32: =RANK(A32,$A$1:$A$70) -> 63
A33: =RAND() -> 0.21733155 | C33: =RANK(A33,$A$1:$A$70) -> 53
A34: =RAND() -> 0.96278761 | C34: =RANK(A34,$A$1:$A$70) -> 3
A35: =RAND() -> 0.12136267 | C35: =RANK(A35,$A$1:$A$70) -> 65
A36: =RAND() -> 0.81637554 | C36: =RANK(A36,$A$1:$A$70) -> 14
A37: =RAND() -> 0.79434756 | C37: =RANK(A37,$A$1:$A$70) -> 15
... A70: =RAND() -> 0.40326129 | C70: =RANK(A70,$A$1:$A$70) -> 40
