Workbook
Name NativeTimeline_Fecha: #N/A
Name SegmentaciónDeDatos_Categoría: #N/A
Name SegmentaciónDeDatos_Descripción: #N/A
Name TablaIngresos: Tabla2[]

Sheet Instrucciones
B2: Seguimiento Mensual de Ingresos y Gastos | L2: ExcelFacil.info
B4: Plantilla de Excel para control de Ingresos y Gastos del Hogar.
B6: Cómo usarla:
B8: 1.- Introduce los datos de ingresos en la tabla de ingresos de la hoja Detalle Ingresos y Gastos.
B10: 2.- Introduce los datos de ingresos en la tabla de gastos de la hoja Detalle Ingresos y Gastos.
B12: 3.- La hoja Categorias puedes añadir o modificar tus categorías de gastos.
B14: Resultado
B16: En la hoja Seguimiento Mensual tienes el global de tus ingresos y gastos, de forma que los puedes comparar de forma fácil.
B18: La hoja de Seguimiento Gastos te permite controlar de forma fácil las distintas categorías de gatos
B21: Más plantillas:
B23: https://excelfacil.info/plantillas/

Sheet Detalle Ingresos y Gastos
B2: Seguimiento Mensual de Ingresos y Gastos | L2: ExcelFacil.info
B4: Fecha | C4: Mes | D4: Descripción | E4: Ingresos | G4: Fecha | H4: Mes | I4: Categoría | J4: Descripción | K4: Gastos
B5: 44591 | C5: =UPPER(TEXT(Tabla2[[#This Row],[Fecha]],"mmmm")) -> ENERO | D5: Nomina | E5: 1200 | G5: 44572 | H5: =UPPER(TEXT(TablaGastos[[#This Row],[Fecha]],"mmmm")) -> ENERO | I5: Comida | J5: Mercadona | K5: 125.32
B6: 44620 | C6: =UPPER(TEXT(Tabla2[[#This Row],[Fecha]],"mmmm")) -> FEBRERO | D6: Nomina | E6: 1450 | G6: 44582 | H6: =UPPER(TEXT(TablaGastos[[#This Row],[Fecha]],"mmmm")) -> ENERO | I6: Ropa | J6: Mango | K6: 56.32
B7: 44650 | C7: =UPPER(TEXT(Tabla2[[#This Row],[Fecha]],"mmmm")) -> MARZO | D7: Nomina | E7: 1200 | G7: 44604 | H7: =UPPER(TEXT(TablaGastos[[#This Row],[Fecha]],"mmmm")) -> FEBRERO | I7: Comida | J7: Carrefour | K7: 100
B8: 44681 | C8: =UPPER(TEXT(Tabla2[[#This Row],[Fecha]],"mmmm")) -> ABRIL | D8: Nomina | E8: 1236 | G8: 44611 | H8: =UPPER(TEXT(TablaGastos[[#This Row],[Fecha]],"mmmm")) -> FEBRERO | I8: Ocio | J8: Cine | K8: 30
B9: 44711 | C9: =UPPER(TEXT(Tabla2[[#This Row],[Fecha]],"mmmm")) -> MAYO | D9: Nomina | E9: 2145 | G9: 44625 | H9: =UPPER(TEXT(TablaGastos[[#This Row],[Fecha]],"mmmm")) -> MARZO | I9: Comida | J9: Carrefour | K9: 150
B10: 44742 | C10: =UPPER(TEXT(Tabla2[[#This Row],[Fecha]],"mmmm")) -> JUNIO | D10: Nomina | E10: 1200 | G10: 44635 | H10: =UPPER(TEXT(TablaGastos[[#This Row],[Fecha]],"mmmm")) -> MARZO | I10: Ropa | J10: Mango | K10: 22
B11: 44772 | C11: =UPPER(TEXT(Tabla2[[#This Row],[Fecha]],"mmmm")) -> JULIO | D11: Nomina | E11: 1654 | G11: 44661 | H11: =UPPER(TEXT(TablaGastos[[#This Row],[Fecha]],"mmmm")) -> ABRIL | I11: Comida | J11: Carrefour | K11: 125
B12: 44803 | C12: =UPPER(TEXT(Tabla2[[#This Row],[Fecha]],"mmmm")) -> AGOSTO | D12: Nomina | E12: 1200 | G12: 44676 | H12: =UPPER(TEXT(TablaGastos[[#This Row],[Fecha]],"mmmm")) -> ABRIL | I12: Ocio | J12: Cine | K12: 25
B13: 44834 | C13: =UPPER(TEXT(Tabla2[[#This Row],[Fecha]],"mmmm")) -> SEPTIEMBRE | D13: Nomina | E13: 1875 | G13: 44691 | H13: =UPPER(TEXT(TablaGastos[[#This Row],[Fecha]],"mmmm")) -> MAYO | I13: Comida | J13: Mercadona | K13: 123
B14: 44864 | C14: =UPPER(TEXT(Tabla2[[#This Row],[Fecha]],"mmmm")) -> OCTUBRE | D14: Nomina | E14: 1200 | G14: 44693 | H14: =UPPER(TEXT(TablaGastos[[#This Row],[Fecha]],"mmmm")) -> MAYO | I14: Ropa | J14: Zara | K14: 25
B15: 44895 | C15: =UPPER(TEXT(Tabla2[[#This Row],[Fecha]],"mmmm")) -> NOVIEMBRE | D15: Nomina | E15: 1333 | G15: 44728 | H15: =UPPER(TEXT(TablaGastos[[#This Row],[Fecha]],"mmmm")) -> JUNIO | I15: Comida | J15: Carrefour | K15: 10
B16: 44925 | C16: =UPPER(TEXT(Tabla2[[#This Row],[Fecha]],"mmmm")) -> DICIEMBRE | D16: Nomina | E16: 1200 | G16: 44738 | H16: =UPPER(TEXT(TablaGastos[[#This Row],[Fecha]],"mmmm")) -> JUNIO | I16: Ocio | J16: Cine | K16: 15
C17: =UPPER(TEXT(Tabla2[[#This Row],[Fecha]],"mmmm")) -> ENERO | G17: 44759 | H17: =UPPER(TEXT(TablaGastos[[#This Row],[Fecha]],"mmmm")) -> JULIO | I17: Comida | J17: Mercadona | K17: 13
C18: =UPPER(TEXT(Tabla2[[#This Row],[Fecha]],"mmmm")) -> ENERO | G18: 44760 | H18: =UPPER(TEXT(TablaGastos[[#This Row],[Fecha]],"mmmm")) -> JULIO | I18: Ropa | J18: Mango | K18: 90
C19: =UPPER(TEXT(Tabla2[[#This Row],[Fecha]],"mmmm")) -> ENERO | G19: 44793 | H19: =UPPER(TEXT(TablaGastos[[#This Row],[Fecha]],"mmmm")) -> AGOSTO | I19: Comida | J19: Carrefour | K19: 200
C20: =UPPER(TEXT(Tabla2[[#This Row],[Fecha]],"mmmm")) -> ENERO | G20: 44798 | H20: =UPPER(TEXT(TablaGastos[[#This Row],[Fecha]],"mmmm")) -> AGOSTO | I20: Ocio | J20: Cine | K20: 15
C21: =UPPER(TEXT(Tabla2[[#This Row],[Fecha]],"mmmm")) -> ENERO | G21: 44823 | H21: =UPPER(TEXT(TablaGastos[[#This Row],[Fecha]],"mmmm")) -> SEPTIEMBRE | I21: Comida | J21: Mercadona | K21: 123
C22: =UPPER(TEXT(Tabla2[[#This Row],[Fecha]],"mmmm")) -> ENERO | G22: 44825 | H22: =UPPER(TEXT(TablaGastos[[#This Row],[Fecha]],"mmmm")) -> SEPTIEMBRE | I22: Ropa | J22: Mango | K22: 25
C23: =UPPER(TEXT(Tabla2[[#This Row],[Fecha]],"mmmm")) -> ENERO | G23: 44837 | H23: =UPPER(TEXT(TablaGastos[[#This Row],[Fecha]],"mmmm")) -> OCTUBRE | I23: Comida | J23: Carrefour | K23: 14
C24: =UPPER(TEXT(Tabla2[[#This Row],[Fecha]],"mmmm")) -> ENERO | G24: 44847 | H24: =UPPER(TEXT(TablaGastos[[#This Row],[Fecha]],"mmmm")) -> OCTUBRE | I24: Ocio | J24: Cine | K24: 30
C25: =UPPER(TEXT(Tabla2[[#This Row],[Fecha]],"mmmm")) -> ENERO | G25: 44876 | H25: =UPPER(TEXT(TablaGastos[[#This Row],[Fecha]],"mmmm")) -> NOVIEMBRE | I25: Comida | J25: Mercadona | K25: 15
C26: =UPPER(TEXT(Tabla2[[#This Row],[Fecha]],"mmmm")) -> ENERO | G26: 44881 | H26: =UPPER(TEXT(TablaGastos[[#This Row],[Fecha]],"mmmm")) -> NOVIEMBRE | I26: Ropa | J26: Mango | K26: 12
C27: =UPPER(TEXT(Tabla2[[#This Row],[Fecha]],"mmmm")) -> ENERO | G27: 44901 | H27: =UPPER(TEXT(TablaGastos[[#This Row],[Fecha]],"mmmm")) -> DICIEMBRE | I27: Comida | J27: Carrefour | K27: 241
C28: =UPPER(TEXT(Tabla2[[#This Row],[Fecha]],"mmmm")) -> ENERO | G28: 44921 | H28: =UPPER(TEXT(TablaGastos[[#This Row],[Fecha]],"mmmm")) -> DICIEMBRE | I28: Ocio | J28: Cine | K28: 12
C29: =UPPER(TEXT(Tabla2[[#This Row],[Fecha]],"mmmm")) -> ENERO | H29: =UPPER(TEXT(TablaGastos[[#This Row],[Fecha]],"mmmm")) -> ENERO
C30: =UPPER(TEXT(Tabla2[[#This Row],[Fecha]],"mmmm")) -> ENERO | H30: =UPPER(TEXT(TablaGastos[[#This Row],[Fecha]],"mmmm")) -> ENERO
C31: =UPPER(TEXT(Tabla2[[#This Row],[Fecha]],"mmmm")) -> ENERO | H31: =UPPER(TEXT(TablaGastos[[#This Row],[Fecha]],"mmmm")) -> ENERO
C32: =UPPER(TEXT(Tabla2[[#This Row],[Fecha]],"mmmm")) -> ENERO | H32: =UPPER(TEXT(TablaGastos[[#This Row],[Fecha]],"mmmm")) -> ENERO
C33: =UPPER(TEXT(Tabla2[[#This Row],[Fecha]],"mmmm")) -> ENERO | H33: =UPPER(TEXT(TablaGastos[[#This Row],[Fecha]],"mmmm")) -> ENERO
C34: =UPPER(TEXT(Tabla2[[#This Row],[Fecha]],"mmmm")) -> ENERO | H34: =UPPER(TEXT(TablaGastos[[#This Row],[Fecha]],"mmmm")) -> ENERO
C35: =UPPER(TEXT(Tabla2[[#This Row],[Fecha]],"mmmm")) -> ENERO | H35: =UPPER(TEXT(TablaGastos[[#This Row],[Fecha]],"mmmm")) -> ENERO

Sheet Seguimiento Mensual
B2: Seguimiento Mensual de Ingresos y Gastos | L2: ExcelFacil.info
C4: ENERO | D4: FEBRERO | E4: MARZO | F4: ABRIL | G4: MAYO | H4: JUNIO | I4: JULIO | J4: AGOSTO | K4: SEPTIEMBRE | L4: OCTUBRE | M4: NOVIEMBRE | N4: DICIEMBRE
B5: Ingresos | C5: =SUMIF(Tabla2[Mes],'Seguimiento Mensual'!C4,Tabla2[Ingresos]) -> 1200 | D5: =SUMIF(Tabla2[Mes],'Seguimiento Mensual'!D4,Tabla2[Ingresos]) -> 1450 | E5: =SUMIF(Tabla2[Mes],'Seguimiento Mensual'!E4,Tabla2[Ingresos]) -> 1200 | F5: =SUMIF(Tabla2[Mes],'Seguimiento Mensual'!F4,Tabla2[Ingresos]) -> 1236 | G5: =SUMIF(Tabla2[Mes],'Seguimiento Mensual'!G4,Tabla2[Ingresos]) -> 2145 | H5: =SUMIF(Tabla2[Mes],'Seguimiento Mensual'!H4,Tabla2[Ingresos]) -> 1200 | I5: =SUMIF(Tabla2[Mes],'Seguimiento Mensual'!I4,Tabla2[Ingresos]) -> 1654 | J5: =SUMIF(Tabla2[Mes],'Seguimiento Mensual'!J4,Tabla2[Ingresos]) -> 1200 | ... N5: =SUMIF(Tabla2[Mes],'Seguimiento Mensual'!N4,Tabla2[Ingresos]) -> 1200
B6: Gastos | C6: =SUMIF(TablaGastos[Mes],'Seguimiento Mensual'!C4,TablaGastos[Gastos]) -> 181.64 | D6: =SUMIF(TablaGastos[Mes],'Seguimiento Mensual'!C4,TablaGastos[Gastos]) -> 181.64 | E6: =SUMIF(TablaGastos[Mes],'Seguimiento Mensual'!C4,TablaGastos[Gastos]) -> 181.64 | F6: =SUMIF(TablaGastos[Mes],'Seguimiento Mensual'!C4,TablaGastos[Gastos]) -> 181.64 | G6: =SUMIF(TablaGastos[Mes],'Seguimiento Mensual'!C4,TablaGastos[Gastos]) -> 181.64 | H6: =SUMIF(TablaGastos[Mes],'Seguimiento Mensual'!C4,TablaGastos[Gastos]) -> 181.64 | I6: =SUMIF(TablaGastos[Mes],'Seguimiento Mensual'!C4,TablaGastos[Gastos]) -> 181.64 | J6: =SUMIF(TablaGastos[Mes],'Seguimiento Mensual'!C4,TablaGastos[Gastos]) -> 181.64 | K6: =SUMIF(TablaGastos[Mes],'Seguimiento Mensual'!C4,TablaGastos[Gastos]) -> 181.64 | L6: =SUMIF(TablaGastos[Mes],'Seguimiento Mensual'!C4,TablaGastos[Gastos]) -> 181.64 | M6: =SUMIF(TablaGastos[Mes],'Seguimiento Mensual'!C4,TablaGastos[Gastos]) -> 181.64 | N6: =SUMIF(TablaGastos[Mes],'Seguimiento Mensual'!C4,TablaGastos[Gastos]) -> 181.64
B7: Balance | C7: =C5-C6 -> 1018.36 | D7: =D5-D6 -> 1268.36 | E7: =E5-E6 -> 1018.36 | F7: =F5-F6 -> 1054.36 | G7: =G5-G6 -> 1963.36 | H7: =H5-H6 -> 1018.36 | I7: =I5-I6 -> 1472.36 | J7: =J5-J6 -> 1018.36 | ... N7: =N5-N6 -> 1018.36
B8: Saldo Acumulado | C8: =C7 -> 1018.36 | D8: =C8+D7 -> 2286.72 | E8: =D8+E7 -> 3305.08 | F8: =E8+F7 -> 4359.44 | G8: =F8+G7 -> 6322.8 | H8: =G8+H7 -> 7341.16 | I8: =H8+I7 -> 8813.52 | J8: =I8+J7 -> 9831.88 | K8: =J8+K7 -> 11525.24 | ... N8: =M8+N7 -> 14713.32

Sheet Seguimiento Gastos
A2: Seguimiento Mensual de Ingresos y Gastos | L2: ExcelFacil.info
A14: Suma de Gastos | B14: Etiquetas de columna
A15: Etiquetas de fila | B15: ENERO | C15: FEBRERO | D15: MARZO | E15: ABRIL | F15: MAYO | G15: JUNIO | H15: JULIO | I15: AGOSTO | J15: SEPTIEMBRE | K15: OCTUBRE | L15: NOVIEMBRE | M15: DICIEMBRE | N15: Total general
A16: Comida | B16: 125.32 | C16: 100 | D16: 150 | E16: 125 | F16: 123 | G16: 10 | H16: 13 | I16: 200 | J16: 123 | K16: 14 | L16: 15 | M16: 241 | N16: 1239.32
A17: Ocio | C17: 30 | E17: 25 | G17: 15 | I17: 15 | K17: 30 | M17: 12 | N17: 127
A18: Ropa | B18: 56.32 | D18: 22 | F18: 25 | H18: 90 | J18: 25 | L18: 12 | N18: 230.32
A19: Total general | B19: 181.64 | C19: 130 | D19: 172 | E19: 150 | F19: 148 | G19: 25 | H19: 103 | I19: 215 | J19: 148 | K19: 44 | L19: 27 | M19: 253 | N19: 1596.64

Sheet Categorias
A1: Comida
A2: Ropa
A3: Ocio
A4: Restaurante
A5: Energía
A6: Telefono
A7: Gasolina
A8: Varios
A9: Peaje
